Workbook

Sheet Guidance
A2: #VALUE!
A6: Using the Continuity of Care measuring tool
A8: What is this tool for?
A9: This tool contains a template to manually calculate relational continuity of care (CoC). It can be used to measure the number of appointments with their most seen clinician compared with their total number of appointments over a given month.
A11: Why use this tool?
A12: The purpose of this tool is to support practices who may not be able to use the SLICC dashboard to measure CoC for the Frailty Directed Enhance Service (DES) such as micro-teams managing CoC, GP buddy system, non-GP clinicians.
A14: How to use this tool?
A16: Please familarise yourself with the dummy data example tab before inputting data.
A18: Steps for data input
A19: Step 1: Add list of 10 patients to column B (you could enter CHI here)
A20: Step 2: Add notes to column C that may help provide context ie clinican name, micro-team
A21: Step 3: Add the total number of appointments in September for each patient to column D
A22: Step 4: Add the number of appointments with most seen clinician to column E
... A37: All sheets are protected by default to avoid deleting formulae, but you should be able to amend all the cells that you need to without unprotecting.

Sheet Dummy data example
A1: Dummy data example
D4: Total number of appointments | E4: Number of appointments with most seen clinician | F4: CoC Measure | G4: Total number of appointments | H4: Number of appointments with most seen clinician | I4: CoC Measure | J4: Total number of appointments | K4: Number of appointments with most seen clinician | L4: CoC Measure | M4: Total number of appointments | N4: Number of appointments with most seen clinician | O4: CoC Measure | P4: Total number of appointments | Q4: Number of appointments with most seen clinician | R4: CoC Measure | S4: Total number of appointments | T4: Number of appointments with most seen clinician | U4: CoC Measure | V4: Total number of appointments | W4: Number of appointments with most seen clinician | X4: CoC Measure | Y4: Total number of appointments | Z4: Number of appointments with most seen clinician | AA4: CoC Measure
B5: Cohort selected | C5: Notes | D5: 46266 | E5: 46266 | F5: 46266 | G5: 46296 | H5: 46296 | I5: 46296 | J5: 46327 | K5: 46327 | L5: 46327 | M5: 46357 | N5: 46357 | O5: 46357 | P5: 46388 | Q5: 46388 | R5: 46388 | S5: 46419 | T5: 46419 | U5: 46419 | V5: 46082 | W5: 46082 | X5: 46082 | Y5: 46113 | Z5: 46113 | AA5: 46113
B6: Patient 1 | D6: 5 | E6: 4 | F6: =E6/D6 -> 0.8 | G6: 4 | H6: 3 | I6: =H6/G6 -> 0.75 | J6: 3 | K6: 3 | L6: =K6/J6 -> 1 | M6: 2 | N6: 2 | O6: =N6/M6 -> 1 | P6: 6 | Q6: 5 | R6: =Q6/P6 -> 0.83333333 | S6: 4 | T6: 3 | U6: =T6/S6 -> 0.75 | V6: 3 | W6: 3 | X6: =W6/V6 -> 1 | Y6: 2 | Z6: 2 | AA6: =Z6/Y6 -> 1
B7: Patient 2 | D7: 4 | E7: 1 | F7: =E7/D7 -> 0.25 | G7: 3 | H7: 2 | I7: =H7/G7 -> 0.66666667 | J7: 4 | K7: 1 | L7: =K7/J7 -> 0.25 | M7: 5 | N7: 1 | O7: =N7/M7 -> 0.2 | P7: 4 | Q7: 2 | R7: =Q7/P7 -> 0.5 | S7: 4 | T7: 3 | U7: =T7/S7 -> 0.75 | V7: 3 | W7: 2 | X7: =W7/V7 -> 0.66666667 | Y7: 1 | Z7: 1 | AA7: =Z7/Y7 -> 1
B8: Patient 3 | D8: 2 | E8: 2 | F8: =E8/D8 -> 1 | G8: 1 | H8: 1 | I8: =H8/G8 -> 1 | J8: 6 | K8: 0 | L8: =K8/J8 -> 0 | M8: 2 | N8: 1 | O8: =N8/M8 -> 0.5 | P8: 3 | Q8: 1 | R8: =Q8/P8 -> 0.33333333 | S8: 3 | T8: 2 | U8: =T8/S8 -> 0.66666667 | V8: 4 | W8: 3 | X8: =W8/V8 -> 0.75 | Y8: 4 | Z8: 3 | AA8: =Z8/Y8 -> 0.75
B9: Patient 4 | F9: =E9/D9 -> #DIV/0! | I9: =H9/G9 -> #DIV/0! | L9: =K9/J9 -> #DIV/0! | O9: =N9/M9 -> #DIV/0! | R9: =Q9/P9 -> #DIV/0! | U9: =T9/S9 -> #DIV/0! | X9: =W9/V9 -> #DIV/0! | AA9: =Z9/Y9 -> #DIV/0!
B10: Patient 5 | F10: =E10/D10 -> #DIV/0! | I10: =H10/G10 -> #DIV/0! | L10: =K10/J10 -> #DIV/0! | O10: =N10/M10 -> #DIV/0! | R10: =Q10/P10 -> #DIV/0! | U10: =T10/S10 -> #DIV/0! | X10: =W10/V10 -> #DIV/0! | AA10: =Z10/Y10 -> #DIV/0!
B11: Patient 6 | F11: =E11/D11 -> #DIV/0! | I11: =H11/G11 -> #DIV/0! | L11: =K11/J11 -> #DIV/0! | O11: =N11/M11 -> #DIV/0! | R11: =Q11/P11 -> #DIV/0! | U11: =T11/S11 -> #DIV/0! | X11: =W11/V11 -> #DIV/0! | AA11: =Z11/Y11 -> #DIV/0!
B12: Patient 7 | F12: =E12/D12 -> #DIV/0! | I12: =H12/G12 -> #DIV/0! | L12: =K12/J12 -> #DIV/0! | O12: =N12/M12 -> #DIV/0! | R12: =Q12/P12 -> #DIV/0! | U12: =T12/S12 -> #DIV/0! | X12: =W12/V12 -> #DIV/0! | AA12: =Z12/Y12 -> #DIV/0!
B13: Patient 8 | F13: =E13/D13 -> #DIV/0! | I13: =H13/G13 -> #DIV/0! | L13: =K13/J13 -> #DIV/0! | O13: =N13/M13 -> #DIV/0! | R13: =Q13/P13 -> #DIV/0! | U13: =T13/S13 -> #DIV/0! | X13: =W13/V13 -> #DIV/0! | AA13: =Z13/Y13 -> #DIV/0!
B14: Patient 9 | F14: =E14/D14 -> #DIV/0! | I14: =H14/G14 -> #DIV/0! | L14: =K14/J14 -> #DIV/0! | O14: =N14/M14 -> #DIV/0! | R14: =Q14/P14 -> #DIV/0! | U14: =T14/S14 -> #DIV/0! | X14: =W14/V14 -> #DIV/0! | AA14: =Z14/Y14 -> #DIV/0!
B15: Patient 10 | F15: =E15/D15 -> #DIV/0! | I15: =H15/G15 -> #DIV/0! | L15: =K15/J15 -> #DIV/0! | O15: =N15/M15 -> #DIV/0! | R15: =Q15/P15 -> #DIV/0! | U15: =T15/S15 -> #DIV/0! | X15: =W15/V15 -> #DIV/0! | AA15: =Z15/Y15 -> #DIV/0!
B16: TOTAL | D16: =SUM(D6:D15) -> 11 | E16: =SUM(E6:E15) -> 7 | F16: =E16/D16 -> 0.63636364 | G16: =SUM(G6:G15) -> 8 | H16: =SUM(H6:H15) -> 6 | I16: =H16/G16 -> 0.75 | J16: =SUM(J6:J15) -> 13 | K16: =SUM(K6:K15) -> 4 | L16: =K16/J16 -> 0.30769231 | M16: =SUM(M6:M15) -> 9 | N16: =SUM(N6:N15) -> 4 | O16: =N16/M16 -> 0.44444444 | P16: =SUM(P6:P15) -> 13 | Q16: =SUM(Q6:Q15) -> 8 | R16: =Q16/P16 -> 0.61538462 | S16: =SUM(S6:S15) -> 11 | T16: =SUM(T6:T15) -> 8 | U16: =T16/S16 -> 0.72727273 | V16: =SUM(V6:V15) -> 10 | W16: =SUM(W6:W15) -> 8 | X16: =W16/V16 -> 0.8 | Y16: =SUM(Y6:Y15) -> 7 | Z16: =SUM(Z6:Z15) -> 6 | AA16: =Z16/Y16 -> 0.85714286
E20: Chart 1 | N20: Chart 2
E40: Chart 1 shows the percentage of continuity of care by patient in the DES cohort from September 2026 to March 2027. | N40: Chart 2 shows the total continuity of care in the DES cohort from September 2026 to March 2027.

Sheet Data input
A1: Data input
D3: Total number of appointments | E3: Number of appointments with most seen clinician | F3: CoC Measure | G3: Total number of appointments | H3: Number of appointments with most seen clinician | I3: CoC Measure | J3: Total number of appointments | K3: Number of appointments with most seen clinician | L3: CoC Measure | M3: Total number of appointments | N3: Number of appointments with most seen clinician | O3: CoC Measure | P3: Total number of appointments | Q3: Number of appointments with most seen clinician | R3: CoC Measure | S3: Total number of appointments | T3: Number of appointments with most seen clinician | U3: CoC Measure | V3: Total number of appointments | W3: Number of appointments with most seen clinician | X3: CoC Measure | Y3: Total number of appointments | Z3: Number of appointments with most seen clinician | AA3: CoC Measure
B4: Cohort selected | C4: Notes | D4: 46266 | E4: 46266 | F4: 46266 | G4: 46296 | H4: 46296 | I4: 46296 | J4: 46327 | K4: 46327 | L4: 46327 | M4: 46357 | N4: 46357 | O4: 46357 | P4: 46388 | Q4: 46388 | R4: 46388 | S4: 46419 | T4: 46419 | U4: 46419 | V4: 46082 | W4: 46082 | X4: 46082 | Y4: 46113 | Z4: 46113 | AA4: 46113
B5: Patient 1 | F5: =E5/D5 -> #DIV/0! | I5: =H5/G5 -> #DIV/0! | L5: =K5/J5 -> #DIV/0! | O5: =N5/M5 -> #DIV/0! | R5: =Q5/P5 -> #DIV/0! | U5: =T5/S5 -> #DIV/0! | X5: =W5/V5 -> #DIV/0! | AA5: =Z5/Y5 -> #DIV/0!
B6: Patient 2 | F6: =E6/D6 -> #DIV/0! | I6: =H6/G6 -> #DIV/0! | L6: =K6/J6 -> #DIV/0! | O6: =N6/M6 -> #DIV/0! | R6: =Q6/P6 -> #DIV/0! | U6: =T6/S6 -> #DIV/0! | X6: =W6/V6 -> #DIV/0! | AA6: =Z6/Y6 -> #DIV/0!
B7: Patient 3 | F7: =E7/D7 -> #DIV/0! | I7: =H7/G7 -> #DIV/0! | L7: =K7/J7 -> #DIV/0! | O7: =N7/M7 -> #DIV/0! | R7: =Q7/P7 -> #DIV/0! | U7: =T7/S7 -> #DIV/0! | X7: =W7/V7 -> #DIV/0! | AA7: =Z7/Y7 -> #DIV/0!
B8: Patient 4 | F8: =E8/D8 -> #DIV/0! | I8: =H8/G8 -> #DIV/0! | L8: =K8/J8 -> #DIV/0! | O8: =N8/M8 -> #DIV/0! | R8: =Q8/P8 -> #DIV/0! | U8: =T8/S8 -> #DIV/0! | X8: =W8/V8 -> #DIV/0! | AA8: =Z8/Y8 -> #DIV/0!
B9: Patient 5 | F9: =E9/D9 -> #DIV/0! | I9: =H9/G9 -> #DIV/0! | L9: =K9/J9 -> #DIV/0! | O9: =N9/M9 -> #DIV/0! | R9: =Q9/P9 -> #DIV/0! | U9: =T9/S9 -> #DIV/0! | X9: =W9/V9 -> #DIV/0! | AA9: =Z9/Y9 -> #DIV/0!
B10: Patient 6 | F10: =E10/D10 -> #DIV/0! | I10: =H10/G10 -> #DIV/0! | L10: =K10/J10 -> #DIV/0! | O10: =N10/M10 -> #DIV/0! | R10: =Q10/P10 -> #DIV/0! | U10: =T10/S10 -> #DIV/0! | X10: =W10/V10 -> #DIV/0! | AA10: =Z10/Y10 -> #DIV/0!
B11: Patient 7 | F11: =E11/D11 -> #DIV/0! | I11: =H11/G11 -> #DIV/0! | L11: =K11/J11 -> #DIV/0! | O11: =N11/M11 -> #DIV/0! | R11: =Q11/P11 -> #DIV/0! | U11: =T11/S11 -> #DIV/0! | X11: =W11/V11 -> #DIV/0! | AA11: =Z11/Y11 -> #DIV/0!
B12: Patient 8 | F12: =E12/D12 -> #DIV/0! | I12: =H12/G12 -> #DIV/0! | L12: =K12/J12 -> #DIV/0! | O12: =N12/M12 -> #DIV/0! | R12: =Q12/P12 -> #DIV/0! | U12: =T12/S12 -> #DIV/0! | X12: =W12/V12 -> #DIV/0! | AA12: =Z12/Y12 -> #DIV/0!
B13: Patient 9 | F13: =E13/D13 -> #DIV/0! | I13: =H13/G13 -> #DIV/0! | L13: =K13/J13 -> #DIV/0! | O13: =N13/M13 -> #DIV/0! | R13: =Q13/P13 -> #DIV/0! | U13: =T13/S13 -> #DIV/0! | X13: =W13/V13 -> #DIV/0! | AA13: =Z13/Y13 -> #DIV/0!
B14: Patient 10 | F14: =E14/D14 -> #DIV/0! | I14: =H14/G14 -> #DIV/0! | L14: =K14/J14 -> #DIV/0! | O14: =N14/M14 -> #DIV/0! | R14: =Q14/P14 -> #DIV/0! | U14: =T14/S14 -> #DIV/0! | X14: =W14/V14 -> #DIV/0! | AA14: =Z14/Y14 -> #DIV/0!
B15: TOTAL | D15: =SUM(D5:D14) -> 0 | E15: =SUM(E5:E14) -> 0 | F15: =E15/D15 -> #DIV/0! | G15: =SUM(G5:G14) -> 0 | H15: =SUM(H5:H14) -> 0 | I15: =H15/G15 -> #DIV/0! | J15: =SUM(J5:J14) -> 0 | K15: =SUM(K5:K14) -> 0 | L15: =K15/J15 -> #DIV/0! | M15: =SUM(M5:M14) -> 0 | N15: =SUM(N5:N14) -> 0 | O15: =N15/M15 -> #DIV/0! | P15: =SUM(P5:P14) -> 0 | Q15: =SUM(Q5:Q14) -> 0 | R15: =Q15/P15 -> #DIV/0! | S15: =SUM(S5:S14) -> 0 | T15: =SUM(T5:T14) -> 0 | U15: =T15/S15 -> #DIV/0! | V15: =SUM(V5:V14) -> 0 | W15: =SUM(W5:W14) -> 0 | X15: =W15/V15 -> #DIV/0! | Y15: =SUM(Y5:Y14) -> 0 | Z15: =SUM(Z5:Z14) -> 0 | AA15: =Z15/Y15 -> #DIV/0!

Sheet Charts
A1: Continuity of Care Charts
L4: Chart 1 | AK4: Chart 2

Sheet Summary
B3: Cohort selected | C3: 46266 | D3: 46296 | E3: 46327 | F3: 46357 | G3: 46388 | H3: 46419 | I3: 46447 | J3: 46478
B4: Patient 1 | C4: ='Data input'!F5 -> #DIV/0! | D4: ='Data input'!I5 -> #DIV/0! | E4: ='Data input'!L5 -> #DIV/0! | F4: ='Data input'!O5 -> #DIV/0! | G4: ='Data input'!R5 -> #DIV/0! | H4: ='Data input'!U5 -> #DIV/0! | I4: ='Data input'!X5 -> #DIV/0! | J4: ='Data input'!AA5 -> #DIV/0!
B5: Patient 2 | C5: ='Data input'!F6 -> #DIV/0! | D5: ='Data input'!I6 -> #DIV/0! | E5: ='Data input'!L6 -> #DIV/0! | F5: ='Data input'!O6 -> #DIV/0! | G5: ='Data input'!R6 -> #DIV/0! | H5: ='Data input'!U6 -> #DIV/0! | I5: ='Data input'!X6 -> #DIV/0! | J5: ='Data input'!AA6 -> #DIV/0!
B6: Patient 3 | C6: ='Data input'!F7 -> #DIV/0! | D6: ='Data input'!I7 -> #DIV/0! | E6: ='Data input'!L7 -> #DIV/0! | F6: ='Data input'!O7 -> #DIV/0! | G6: ='Data input'!R7 -> #DIV/0! | H6: ='Data input'!U7 -> #DIV/0! | I6: ='Data input'!X7 -> #DIV/0! | J6: ='Data input'!AA7 -> #DIV/0!
B7: Patient 4 | C7: ='Data input'!F8 -> #DIV/0! | D7: ='Data input'!I8 -> #DIV/0! | E7: ='Data input'!L8 -> #DIV/0! | F7: ='Data input'!O8 -> #DIV/0! | G7: ='Data input'!R8 -> #DIV/0! | H7: ='Data input'!U8 -> #DIV/0! | I7: ='Data input'!X8 -> #DIV/0! | J7: ='Data input'!AA8 -> #DIV/0!
B8: Patient 5 | C8: ='Data input'!F9 -> #DIV/0! | D8: ='Data input'!I9 -> #DIV/0! | E8: ='Data input'!L9 -> #DIV/0! | F8: ='Data input'!O9 -> #DIV/0! | G8: ='Data input'!R9 -> #DIV/0! | H8: ='Data input'!U9 -> #DIV/0! | I8: ='Data input'!X9 -> #DIV/0! | J8: ='Data input'!AA9 -> #DIV/0!
B9: Patient 6 | C9: ='Data input'!F10 -> #DIV/0! | D9: ='Data input'!I10 -> #DIV/0! | E9: ='Data input'!L10 -> #DIV/0! | F9: ='Data input'!O10 -> #DIV/0! | G9: ='Data input'!R10 -> #DIV/0! | H9: ='Data input'!U10 -> #DIV/0! | I9: ='Data input'!X10 -> #DIV/0! | J9: ='Data input'!AA10 -> #DIV/0!
B10: Patient 7 | C10: ='Data input'!F11 -> #DIV/0! | D10: ='Data input'!I11 -> #DIV/0! | E10: ='Data input'!L11 -> #DIV/0! | F10: ='Data input'!O11 -> #DIV/0! | G10: ='Data input'!R11 -> #DIV/0! | H10: ='Data input'!U11 -> #DIV/0! | I10: ='Data input'!X11 -> #DIV/0! | J10: ='Data input'!AA11 -> #DIV/0!
B11: Patient 8 | C11: ='Data input'!F12 -> #DIV/0! | D11: ='Data input'!I12 -> #DIV/0! | E11: ='Data input'!L12 -> #DIV/0! | F11: ='Data input'!O12 -> #DIV/0! | G11: ='Data input'!R12 -> #DIV/0! | H11: ='Data input'!U12 -> #DIV/0! | I11: ='Data input'!X12 -> #DIV/0! | J11: ='Data input'!AA12 -> #DIV/0!
B12: Patient 9 | C12: ='Data input'!F13 -> #DIV/0! | D12: ='Data input'!I13 -> #DIV/0! | E12: ='Data input'!L13 -> #DIV/0! | F12: ='Data input'!O13 -> #DIV/0! | G12: ='Data input'!R13 -> #DIV/0! | H12: ='Data input'!U13 -> #DIV/0! | I12: ='Data input'!X13 -> #DIV/0! | J12: ='Data input'!AA13 -> #DIV/0!
B13: Patient 10 | C13: ='Data input'!F14 -> #DIV/0! | D13: ='Data input'!I14 -> #DIV/0! | E13: ='Data input'!L14 -> #DIV/0! | F13: ='Data input'!O14 -> #DIV/0! | G13: ='Data input'!R14 -> #DIV/0! | H13: ='Data input'!U14 -> #DIV/0! | I13: ='Data input'!X14 -> #DIV/0! | J13: ='Data input'!AA14 -> #DIV/0!
B14: TOTAL CoC | C14: ='Data input'!F15 -> #DIV/0! | D14: ='Data input'!I15 -> #DIV/0! | E14: ='Data input'!L15 -> #DIV/0! | F14: ='Data input'!O15 -> #DIV/0! | G14: ='Data input'!R15 -> #DIV/0! | H14: ='Data input'!U15 -> #DIV/0! | I14: ='Data input'!X15 -> #DIV/0! | J14: ='Data input'!AA15 -> #DIV/0!
B15: Date | C15: 46266 | D15: 46296 | E15: 46327 | F15: 46357 | G15: 46388 | H15: 46419 | I15: 46447 | J15: 46478
